BEGIN:VCALENDAR
VERSION:2.0
PRODID:-//Tukios.com/
BEGIN:VEVENT
UID:cec0cc7a-f56a-45f3-8e74-ced14a93e1b0@www.luzdepaz.com
DTSTAMP:20260424T204909Z
DTSTART:20260426T130000Z
DTEND:20260426T160000Z
SUMMARY:Visitation
DESCRIPTION:
URL:https://www.luzdepaz.com/obituaries/maya-cuadrado
LOCATION: 426 E. Washington Ave.  Bridgeport CT 06608
GEO:41.1857647;-73.185153
END:VEVENT
END:VCALENDAR