BEGIN:VCALENDAR
VERSION:2.0
PRODID:-//Tukios.com/
BEGIN:VEVENT
UID:e575f263-77cc-4a13-b30b-e00fbee85ace@www.luzdepaz.com
DTSTAMP:20260424T204547Z
DTSTART:20260427T150000Z
DTEND:20260427T160000Z
SUMMARY:Burial
DESCRIPTION:Departure to Woodlawn Cemetery, Bronx, New York
URL:https://www.luzdepaz.com/obituaries/maya-cuadrado
LOCATION:Woodlawn Cemetery 4199 Webster Ave  Bronx NY 10467
GEO:40.8951074;-73.8641484
END:VEVENT
END:VCALENDAR