BEGIN:VCALENDAR
VERSION:2.0
PRODID:-//Tukios.com/
BEGIN:VEVENT
UID:4fcdefe7-588c-4562-94fc-42324c5091ba@www.luzdepaz.com
DTSTAMP:20260422T231734Z
DTSTART:20260429T124500Z
DTEND:20260429T154500Z
SUMMARY:Viewing
DESCRIPTION:
URL:https://www.luzdepaz.com/obituaries/pedro-vazquez
LOCATION: 426 E. Washington Ave.  Bridgeport CT 06608
GEO:41.1857647;-73.185153
END:VEVENT
END:VCALENDAR