BEGIN:VCALENDAR
VERSION:2.0
PRODID:-//Tukios.com/
BEGIN:VEVENT
UID:6501e97a-617c-4a88-8cda-1cdfb8d2780f@www.luzdepaz.com
DTSTAMP:20260422T231558Z
DTSTART:20260429
SUMMARY:Burial
DESCRIPTION:
URL:https://www.luzdepaz.com/obituaries/pedro-vazquez
LOCATION: 885 Boston Ave  Bridgeport CT 06610
GEO:41.1971092;-73.1734876
END:VEVENT
END:VCALENDAR