BEGIN:VCALENDAR
VERSION:2.0
PRODID:-//Tukios.com/
BEGIN:VEVENT
UID:3d49bbda-c1a3-4b93-81f1-bf428c60ab1d@www.luzdepaz.com
DTSTAMP:20260423T022057Z
DTSTART:20260425T120000Z
DTEND:20260425T150000Z
SUMMARY:Visitation
DESCRIPTION:
URL:https://www.luzdepaz.com/obituaries/san-meach
LOCATION: 426 E. Washington Ave.  Bridgeport CT 06608
GEO:41.1857647;-73.185153
END:VEVENT
END:VCALENDAR