BEGIN:VCALENDAR
VERSION:2.0
PRODID:-//Tukios.com/
BEGIN:VEVENT
UID:7e19747f-a1fc-445f-a41d-14d450d14652@www.luzdepaz.com
DTSTAMP:20260423T022018Z
DTSTART:20260425T154500Z
DTEND:20260425T160000Z
SUMMARY:Funeral Service
DESCRIPTION:
URL:https://www.luzdepaz.com/obituaries/san-meach
LOCATION: 2675 North Ave  Bridgeport CT 06604
GEO:41.176613;-73.2207195
END:VEVENT
END:VCALENDAR