BEGIN:VCALENDAR
VERSION:2.0
PRODID:-//Tukios.com/
BEGIN:VEVENT
UID:bb61709e-e796-4452-98fa-5f84de522bf7@www.luzdepaz.com
DTSTAMP:20260424T153413Z
DTSTART:20260426T180000Z
DTEND:20260426T210000Z
SUMMARY:Viewing
DESCRIPTION:
URL:https://www.luzdepaz.com/obituaries/segundo-guaranda-gamboy
LOCATION: 426 E. Washington Ave.  Bridgeport CT 06608
GEO:41.1857647;-73.185153
END:VEVENT
END:VCALENDAR